BEGIN:VCALENDAR
VERSION:2.0
PRODID:-//Safe Passage - ECPv6.15.17.1//NONSGML v1.0//EN
CALSCALE:GREGORIAN
METHOD:PUBLISH
X-ORIGINAL-URL:https://safepassagedv.org
X-WR-CALDESC:Events for Safe Passage
REFRESH-INTERVAL;VALUE=DURATION:PT1H
X-Robots-Tag:noindex
X-PUBLISHED-TTL:PT1H
BEGIN:VTIMEZONE
TZID:America/Chicago
BEGIN:DAYLIGHT
TZOFFSETFROM:-0600
TZOFFSETTO:-0500
TZNAME:CDT
DTSTART:20240310T080000
END:DAYLIGHT
BEGIN:STANDARD
TZOFFSETFROM:-0500
TZOFFSETTO:-0600
TZNAME:CST
DTSTART:20241103T070000
END:STANDARD
BEGIN:DAYLIGHT
TZOFFSETFROM:-0600
TZOFFSETTO:-0500
TZNAME:CDT
DTSTART:20250309T080000
END:DAYLIGHT
BEGIN:STANDARD
TZOFFSETFROM:-0500
TZOFFSETTO:-0600
TZNAME:CST
DTSTART:20251102T070000
END:STANDARD
BEGIN:DAYLIGHT
TZOFFSETFROM:-0600
TZOFFSETTO:-0500
TZNAME:CDT
DTSTART:20260308T080000
END:DAYLIGHT
BEGIN:STANDARD
TZOFFSETFROM:-0500
TZOFFSETTO:-0600
TZNAME:CST
DTSTART:20261101T070000
END:STANDARD
END:VTIMEZONE
BEGIN:VEVENT
DTSTART;TZID=America/Chicago:20250822T143000
DTEND;TZID=America/Chicago:20250822T163000
DTSTAMP:20260421T061112
CREATED:20250519T141309Z
LAST-MODIFIED:20250519T141343Z
UID:10001727-1755873000-1755880200@safepassagedv.org
SUMMARY:Safe Passage at Clinton Township Public Library
DESCRIPTION:Join Safe Passage at the Clinton Township Public Library from 2:30-4:30 PM on the 4th Friday of every month for free survivor resources\, information about volunteering/interning\, upcoming events\, and more! \n 
URL:https://safepassagedv.org/event/safe-passage-at-clinton-township-public-library-3/2025-08-22/
LOCATION:IL
END:VEVENT
BEGIN:VEVENT
DTSTART;TZID=America/Chicago:20250822T150000
DTEND;TZID=America/Chicago:20250824T180000
DTSTAMP:20260421T061112
CREATED:20250519T144014Z
LAST-MODIFIED:20250519T144014Z
UID:10001746-1755874800-1756058400@safepassagedv.org
SUMMARY:Corn Fest Parking Fundraiser at Tom Sparks
DESCRIPTION:Join us at Tom Sparks Automotive all Corn Fest long for $10 parking benefitting Safe Passage! Cash only. 
URL:https://safepassagedv.org/event/corn-fest-parking-fundraiser-at-tom-sparks/
LOCATION:IL
END:VEVENT
END:VCALENDAR