BEGIN:VCALENDAR
VERSION:2.0
PRODID:-//Safe Passage - ECPv6.15.17.1//NONSGML v1.0//EN
CALSCALE:GREGORIAN
METHOD:PUBLISH
X-WR-CALNAME:Safe Passage
X-ORIGINAL-URL:https://safepassagedv.org
X-WR-CALDESC:Events for Safe Passage
REFRESH-INTERVAL;VALUE=DURATION:PT1H
X-Robots-Tag:noindex
X-PUBLISHED-TTL:PT1H
BEGIN:VTIMEZONE
TZID:America/Chicago
BEGIN:DAYLIGHT
TZOFFSETFROM:-0600
TZOFFSETTO:-0500
TZNAME:CDT
DTSTART:20250309T080000
END:DAYLIGHT
BEGIN:STANDARD
TZOFFSETFROM:-0500
TZOFFSETTO:-0600
TZNAME:CST
DTSTART:20251102T070000
END:STANDARD
BEGIN:DAYLIGHT
TZOFFSETFROM:-0600
TZOFFSETTO:-0500
TZNAME:CDT
DTSTART:20260308T080000
END:DAYLIGHT
BEGIN:STANDARD
TZOFFSETFROM:-0500
TZOFFSETTO:-0600
TZNAME:CST
DTSTART:20261101T070000
END:STANDARD
BEGIN:DAYLIGHT
TZOFFSETFROM:-0600
TZOFFSETTO:-0500
TZNAME:CDT
DTSTART:20270314T080000
END:DAYLIGHT
BEGIN:STANDARD
TZOFFSETFROM:-0500
TZOFFSETTO:-0600
TZNAME:CST
DTSTART:20271107T070000
END:STANDARD
END:VTIMEZONE
BEGIN:VEVENT
DTSTART;TZID=America/Chicago:20260129T120000
DTEND;TZID=America/Chicago:20260129T140000
DTSTAMP:20260423T102432
CREATED:20251020T154634Z
LAST-MODIFIED:20251020T154634Z
UID:10001878-1769688000-1769695200@safepassagedv.org
SUMMARY:Safe Passage at NIU Stevenson Hall
DESCRIPTION:Join Safe Passage at NIU Stevenson Hall from 12-2 PM for free survivor resources\, information on how to volunteer/intern with us\, and learn more about upcoming events!
URL:https://safepassagedv.org/event/safe-passage-at-niu-stevenson-hall-11/
LOCATION:IL
END:VEVENT
BEGIN:VEVENT
DTSTART;TZID=America/Chicago:20260129T143000
DTEND;TZID=America/Chicago:20260129T163000
DTSTAMP:20260423T102432
CREATED:20251020T154728Z
LAST-MODIFIED:20251020T154728Z
UID:10001879-1769697000-1769704200@safepassagedv.org
SUMMARY:Safe Passage at NIU Neptune Hall
DESCRIPTION:Join Safe Passage at NIU Neptune Hall from 2:30-4:30 PM for free survivor resources\, information on how to volunteer/intern with us\, and learn more about upcoming events!
URL:https://safepassagedv.org/event/safe-passage-at-niu-neptune-hall-13/
LOCATION:IL
END:VEVENT
END:VCALENDAR