BEGIN:VCALENDAR
VERSION:2.0
PRODID:-//Safe Passage - ECPv6.15.17.1//NONSGML v1.0//EN
CALSCALE:GREGORIAN
METHOD:PUBLISH
X-WR-CALNAME:Safe Passage
X-ORIGINAL-URL:https://safepassagedv.org
X-WR-CALDESC:Events for Safe Passage
REFRESH-INTERVAL;VALUE=DURATION:PT1H
X-Robots-Tag:noindex
X-PUBLISHED-TTL:PT1H
BEGIN:VTIMEZONE
TZID:America/Chicago
BEGIN:DAYLIGHT
TZOFFSETFROM:-0600
TZOFFSETTO:-0500
TZNAME:CDT
DTSTART:20210314T080000
END:DAYLIGHT
BEGIN:STANDARD
TZOFFSETFROM:-0500
TZOFFSETTO:-0600
TZNAME:CST
DTSTART:20211107T070000
END:STANDARD
BEGIN:DAYLIGHT
TZOFFSETFROM:-0600
TZOFFSETTO:-0500
TZNAME:CDT
DTSTART:20220313T080000
END:DAYLIGHT
BEGIN:STANDARD
TZOFFSETFROM:-0500
TZOFFSETTO:-0600
TZNAME:CST
DTSTART:20221106T070000
END:STANDARD
BEGIN:DAYLIGHT
TZOFFSETFROM:-0600
TZOFFSETTO:-0500
TZNAME:CDT
DTSTART:20230312T080000
END:DAYLIGHT
BEGIN:STANDARD
TZOFFSETFROM:-0500
TZOFFSETTO:-0600
TZNAME:CST
DTSTART:20231105T070000
END:STANDARD
END:VTIMEZONE
BEGIN:VEVENT
DTSTART;TZID=America/Chicago:20220430T110000
DTEND;TZID=America/Chicago:20220430T130000
DTSTAMP:20260423T123423
CREATED:20220329T152239Z
LAST-MODIFIED:20220411T170820Z
UID:10000171-1651316400-1651323600@safepassagedv.org
SUMMARY:Walk A Mile
DESCRIPTION:A walk around campus to raise awareness of sexual assault and remind our community that there is never an excuse for sexual violence.  This event will be a collaboration between Safe Passage and NIU’s​ Office of Academic Diversity\, Equity\, and Inclusion. \nTo register\, click on this link. \n***After Party TBD
URL:https://safepassagedv.org/event/walk-a-mile-2/
LOCATION:NIU’s East Lagoon\, DeKalb\, IL\, 60115\, United States
CATEGORIES:Fundraiser,Sexual Assault Awareness Month
ATTACH;FMTTYPE=image/png:https://safepassagedv.org/wp-content/uploads/2022/03/WAM-2022-Header.png
ORGANIZER;CN="NIU's Office of Academic Diversity%2C Equity%2C and Inclusion  Prevention Education and Outreach":MAILTO:ahurlburt@niu.edu
END:VEVENT
END:VCALENDAR