BEGIN:VCALENDAR
VERSION:2.0
PRODID:-//Safe Passage - ECPv6.15.17.1//NONSGML v1.0//EN
CALSCALE:GREGORIAN
METHOD:PUBLISH
X-WR-CALNAME:Safe Passage
X-ORIGINAL-URL:https://safepassagedv.org
X-WR-CALDESC:Events for Safe Passage
REFRESH-INTERVAL;VALUE=DURATION:PT1H
X-Robots-Tag:noindex
X-PUBLISHED-TTL:PT1H
BEGIN:VTIMEZONE
TZID:America/Chicago
BEGIN:DAYLIGHT
TZOFFSETFROM:-0600
TZOFFSETTO:-0500
TZNAME:CDT
DTSTART:20220313T080000
END:DAYLIGHT
BEGIN:STANDARD
TZOFFSETFROM:-0500
TZOFFSETTO:-0600
TZNAME:CST
DTSTART:20221106T070000
END:STANDARD
BEGIN:DAYLIGHT
TZOFFSETFROM:-0600
TZOFFSETTO:-0500
TZNAME:CDT
DTSTART:20230312T080000
END:DAYLIGHT
BEGIN:STANDARD
TZOFFSETFROM:-0500
TZOFFSETTO:-0600
TZNAME:CST
DTSTART:20231105T070000
END:STANDARD
BEGIN:DAYLIGHT
TZOFFSETFROM:-0600
TZOFFSETTO:-0500
TZNAME:CDT
DTSTART:20240310T080000
END:DAYLIGHT
BEGIN:STANDARD
TZOFFSETFROM:-0500
TZOFFSETTO:-0600
TZNAME:CST
DTSTART:20241103T070000
END:STANDARD
END:VTIMEZONE
BEGIN:VEVENT
DTSTART;TZID=America/Chicago:20230405T110000
DTEND;TZID=America/Chicago:20230405T210000
DTSTAMP:20260421T033027
CREATED:20230314T142053Z
LAST-MODIFIED:20230330T135045Z
UID:10001422-1680692400-1680728400@safepassagedv.org
SUMMARY:Spider Tattooz 2 S.A.A.M Flash Sale
DESCRIPTION:We’re partnering up with Sycamore’s Spider Tattooz 2 for Sexual Assault Awareness Month! \nTheir artists have cultivated several designs\, like Medusa and lotus flower designs\, to honor survivors of sexual abuse. \n  \n40% of the profits from the S.A.A.M designs will go to Safe Passage. \n  \nAvailable every Wed-Sat throughout the month of April\, \nfrom 11am-9pm \nAppointment only \n  \nTo see the designs\, click here.
URL:https://safepassagedv.org/event/spyder-tattoo-s-a-a-m-flash-sale/2023-04-05/
CATEGORIES:Fundraiser,Sexual Assault Awareness Month
END:VEVENT
BEGIN:VEVENT
DTSTART;TZID=America/Chicago:20230406T110000
DTEND;TZID=America/Chicago:20230406T210000
DTSTAMP:20260421T033027
CREATED:20230314T142053Z
LAST-MODIFIED:20230330T135045Z
UID:10001423-1680778800-1680814800@safepassagedv.org
SUMMARY:Spider Tattooz 2 S.A.A.M Flash Sale
DESCRIPTION:We’re partnering up with Sycamore’s Spider Tattooz 2 for Sexual Assault Awareness Month! \nTheir artists have cultivated several designs\, like Medusa and lotus flower designs\, to honor survivors of sexual abuse. \n  \n40% of the profits from the S.A.A.M designs will go to Safe Passage. \n  \nAvailable every Wed-Sat throughout the month of April\, \nfrom 11am-9pm \nAppointment only \n  \nTo see the designs\, click here.
URL:https://safepassagedv.org/event/spyder-tattoo-s-a-a-m-flash-sale/2023-04-06/
CATEGORIES:Fundraiser,Sexual Assault Awareness Month
END:VEVENT
BEGIN:VEVENT
DTSTART;TZID=America/Chicago:20230407T110000
DTEND;TZID=America/Chicago:20230407T210000
DTSTAMP:20260421T033027
CREATED:20230314T142053Z
LAST-MODIFIED:20230330T135045Z
UID:10001424-1680865200-1680901200@safepassagedv.org
SUMMARY:Spider Tattooz 2 S.A.A.M Flash Sale
DESCRIPTION:We’re partnering up with Sycamore’s Spider Tattooz 2 for Sexual Assault Awareness Month! \nTheir artists have cultivated several designs\, like Medusa and lotus flower designs\, to honor survivors of sexual abuse. \n  \n40% of the profits from the S.A.A.M designs will go to Safe Passage. \n  \nAvailable every Wed-Sat throughout the month of April\, \nfrom 11am-9pm \nAppointment only \n  \nTo see the designs\, click here.
URL:https://safepassagedv.org/event/spyder-tattoo-s-a-a-m-flash-sale/2023-04-07/
CATEGORIES:Fundraiser,Sexual Assault Awareness Month
END:VEVENT
BEGIN:VEVENT
DTSTART;TZID=America/Chicago:20230408T110000
DTEND;TZID=America/Chicago:20230408T210000
DTSTAMP:20260421T033027
CREATED:20230314T142053Z
LAST-MODIFIED:20230330T135045Z
UID:10001425-1680951600-1680987600@safepassagedv.org
SUMMARY:Spider Tattooz 2 S.A.A.M Flash Sale
DESCRIPTION:We’re partnering up with Sycamore’s Spider Tattooz 2 for Sexual Assault Awareness Month! \nTheir artists have cultivated several designs\, like Medusa and lotus flower designs\, to honor survivors of sexual abuse. \n  \n40% of the profits from the S.A.A.M designs will go to Safe Passage. \n  \nAvailable every Wed-Sat throughout the month of April\, \nfrom 11am-9pm \nAppointment only \n  \nTo see the designs\, click here.
URL:https://safepassagedv.org/event/spyder-tattoo-s-a-a-m-flash-sale/2023-04-08/
CATEGORIES:Fundraiser,Sexual Assault Awareness Month
END:VEVENT
BEGIN:VEVENT
DTSTART;TZID=America/Chicago:20230412T110000
DTEND;TZID=America/Chicago:20230412T210000
DTSTAMP:20260421T033027
CREATED:20230314T142053Z
LAST-MODIFIED:20230330T135045Z
UID:10001426-1681297200-1681333200@safepassagedv.org
SUMMARY:Spider Tattooz 2 S.A.A.M Flash Sale
DESCRIPTION:We’re partnering up with Sycamore’s Spider Tattooz 2 for Sexual Assault Awareness Month! \nTheir artists have cultivated several designs\, like Medusa and lotus flower designs\, to honor survivors of sexual abuse. \n  \n40% of the profits from the S.A.A.M designs will go to Safe Passage. \n  \nAvailable every Wed-Sat throughout the month of April\, \nfrom 11am-9pm \nAppointment only \n  \nTo see the designs\, click here.
URL:https://safepassagedv.org/event/spyder-tattoo-s-a-a-m-flash-sale/2023-04-12/
CATEGORIES:Fundraiser,Sexual Assault Awareness Month
END:VEVENT
BEGIN:VEVENT
DTSTART;TZID=America/Chicago:20230413T110000
DTEND;TZID=America/Chicago:20230413T210000
DTSTAMP:20260421T033027
CREATED:20230314T142053Z
LAST-MODIFIED:20230330T135045Z
UID:10001427-1681383600-1681419600@safepassagedv.org
SUMMARY:Spider Tattooz 2 S.A.A.M Flash Sale
DESCRIPTION:We’re partnering up with Sycamore’s Spider Tattooz 2 for Sexual Assault Awareness Month! \nTheir artists have cultivated several designs\, like Medusa and lotus flower designs\, to honor survivors of sexual abuse. \n  \n40% of the profits from the S.A.A.M designs will go to Safe Passage. \n  \nAvailable every Wed-Sat throughout the month of April\, \nfrom 11am-9pm \nAppointment only \n  \nTo see the designs\, click here.
URL:https://safepassagedv.org/event/spyder-tattoo-s-a-a-m-flash-sale/2023-04-13/
CATEGORIES:Fundraiser,Sexual Assault Awareness Month
END:VEVENT
BEGIN:VEVENT
DTSTART;TZID=America/Chicago:20230414T110000
DTEND;TZID=America/Chicago:20230414T210000
DTSTAMP:20260421T033027
CREATED:20230314T142053Z
LAST-MODIFIED:20230330T135045Z
UID:10001428-1681470000-1681506000@safepassagedv.org
SUMMARY:Spider Tattooz 2 S.A.A.M Flash Sale
DESCRIPTION:We’re partnering up with Sycamore’s Spider Tattooz 2 for Sexual Assault Awareness Month! \nTheir artists have cultivated several designs\, like Medusa and lotus flower designs\, to honor survivors of sexual abuse. \n  \n40% of the profits from the S.A.A.M designs will go to Safe Passage. \n  \nAvailable every Wed-Sat throughout the month of April\, \nfrom 11am-9pm \nAppointment only \n  \nTo see the designs\, click here.
URL:https://safepassagedv.org/event/spyder-tattoo-s-a-a-m-flash-sale/2023-04-14/
CATEGORIES:Fundraiser,Sexual Assault Awareness Month
END:VEVENT
BEGIN:VEVENT
DTSTART;TZID=America/Chicago:20230415T110000
DTEND;TZID=America/Chicago:20230415T210000
DTSTAMP:20260421T033027
CREATED:20230314T142053Z
LAST-MODIFIED:20230330T135045Z
UID:10001429-1681556400-1681592400@safepassagedv.org
SUMMARY:Spider Tattooz 2 S.A.A.M Flash Sale
DESCRIPTION:We’re partnering up with Sycamore’s Spider Tattooz 2 for Sexual Assault Awareness Month! \nTheir artists have cultivated several designs\, like Medusa and lotus flower designs\, to honor survivors of sexual abuse. \n  \n40% of the profits from the S.A.A.M designs will go to Safe Passage. \n  \nAvailable every Wed-Sat throughout the month of April\, \nfrom 11am-9pm \nAppointment only \n  \nTo see the designs\, click here.
URL:https://safepassagedv.org/event/spyder-tattoo-s-a-a-m-flash-sale/2023-04-15/
CATEGORIES:Fundraiser,Sexual Assault Awareness Month
END:VEVENT
BEGIN:VEVENT
DTSTART;TZID=America/Chicago:20230419T110000
DTEND;TZID=America/Chicago:20230419T210000
DTSTAMP:20260421T033027
CREATED:20230314T142053Z
LAST-MODIFIED:20230330T135045Z
UID:10001430-1681902000-1681938000@safepassagedv.org
SUMMARY:Spider Tattooz 2 S.A.A.M Flash Sale
DESCRIPTION:We’re partnering up with Sycamore’s Spider Tattooz 2 for Sexual Assault Awareness Month! \nTheir artists have cultivated several designs\, like Medusa and lotus flower designs\, to honor survivors of sexual abuse. \n  \n40% of the profits from the S.A.A.M designs will go to Safe Passage. \n  \nAvailable every Wed-Sat throughout the month of April\, \nfrom 11am-9pm \nAppointment only \n  \nTo see the designs\, click here.
URL:https://safepassagedv.org/event/spyder-tattoo-s-a-a-m-flash-sale/2023-04-19/
CATEGORIES:Fundraiser,Sexual Assault Awareness Month
END:VEVENT
BEGIN:VEVENT
DTSTART;TZID=America/Chicago:20230420T110000
DTEND;TZID=America/Chicago:20230420T210000
DTSTAMP:20260421T033027
CREATED:20230314T142053Z
LAST-MODIFIED:20230330T135045Z
UID:10001431-1681988400-1682024400@safepassagedv.org
SUMMARY:Spider Tattooz 2 S.A.A.M Flash Sale
DESCRIPTION:We’re partnering up with Sycamore’s Spider Tattooz 2 for Sexual Assault Awareness Month! \nTheir artists have cultivated several designs\, like Medusa and lotus flower designs\, to honor survivors of sexual abuse. \n  \n40% of the profits from the S.A.A.M designs will go to Safe Passage. \n  \nAvailable every Wed-Sat throughout the month of April\, \nfrom 11am-9pm \nAppointment only \n  \nTo see the designs\, click here.
URL:https://safepassagedv.org/event/spyder-tattoo-s-a-a-m-flash-sale/2023-04-20/
CATEGORIES:Fundraiser,Sexual Assault Awareness Month
END:VEVENT
BEGIN:VEVENT
DTSTART;TZID=America/Chicago:20230421T110000
DTEND;TZID=America/Chicago:20230421T210000
DTSTAMP:20260421T033027
CREATED:20230314T142053Z
LAST-MODIFIED:20230330T135045Z
UID:10001432-1682074800-1682110800@safepassagedv.org
SUMMARY:Spider Tattooz 2 S.A.A.M Flash Sale
DESCRIPTION:We’re partnering up with Sycamore’s Spider Tattooz 2 for Sexual Assault Awareness Month! \nTheir artists have cultivated several designs\, like Medusa and lotus flower designs\, to honor survivors of sexual abuse. \n  \n40% of the profits from the S.A.A.M designs will go to Safe Passage. \n  \nAvailable every Wed-Sat throughout the month of April\, \nfrom 11am-9pm \nAppointment only \n  \nTo see the designs\, click here.
URL:https://safepassagedv.org/event/spyder-tattoo-s-a-a-m-flash-sale/2023-04-21/
CATEGORIES:Fundraiser,Sexual Assault Awareness Month
END:VEVENT
BEGIN:VEVENT
DTSTART;TZID=America/Chicago:20230422T110000
DTEND;TZID=America/Chicago:20230422T210000
DTSTAMP:20260421T033027
CREATED:20230314T142053Z
LAST-MODIFIED:20230330T135045Z
UID:10001433-1682161200-1682197200@safepassagedv.org
SUMMARY:Spider Tattooz 2 S.A.A.M Flash Sale
DESCRIPTION:We’re partnering up with Sycamore’s Spider Tattooz 2 for Sexual Assault Awareness Month! \nTheir artists have cultivated several designs\, like Medusa and lotus flower designs\, to honor survivors of sexual abuse. \n  \n40% of the profits from the S.A.A.M designs will go to Safe Passage. \n  \nAvailable every Wed-Sat throughout the month of April\, \nfrom 11am-9pm \nAppointment only \n  \nTo see the designs\, click here.
URL:https://safepassagedv.org/event/spyder-tattoo-s-a-a-m-flash-sale/2023-04-22/
CATEGORIES:Fundraiser,Sexual Assault Awareness Month
END:VEVENT
BEGIN:VEVENT
DTSTART;TZID=America/Chicago:20230426T110000
DTEND;TZID=America/Chicago:20230426T210000
DTSTAMP:20260421T033027
CREATED:20230314T142053Z
LAST-MODIFIED:20230330T135045Z
UID:10001434-1682506800-1682542800@safepassagedv.org
SUMMARY:Spider Tattooz 2 S.A.A.M Flash Sale
DESCRIPTION:We’re partnering up with Sycamore’s Spider Tattooz 2 for Sexual Assault Awareness Month! \nTheir artists have cultivated several designs\, like Medusa and lotus flower designs\, to honor survivors of sexual abuse. \n  \n40% of the profits from the S.A.A.M designs will go to Safe Passage. \n  \nAvailable every Wed-Sat throughout the month of April\, \nfrom 11am-9pm \nAppointment only \n  \nTo see the designs\, click here.
URL:https://safepassagedv.org/event/spyder-tattoo-s-a-a-m-flash-sale/2023-04-26/
CATEGORIES:Fundraiser,Sexual Assault Awareness Month
END:VEVENT
BEGIN:VEVENT
DTSTART;TZID=America/Chicago:20230427T110000
DTEND;TZID=America/Chicago:20230427T210000
DTSTAMP:20260421T033027
CREATED:20230314T142053Z
LAST-MODIFIED:20230330T135045Z
UID:10001435-1682593200-1682629200@safepassagedv.org
SUMMARY:Spider Tattooz 2 S.A.A.M Flash Sale
DESCRIPTION:We’re partnering up with Sycamore’s Spider Tattooz 2 for Sexual Assault Awareness Month! \nTheir artists have cultivated several designs\, like Medusa and lotus flower designs\, to honor survivors of sexual abuse. \n  \n40% of the profits from the S.A.A.M designs will go to Safe Passage. \n  \nAvailable every Wed-Sat throughout the month of April\, \nfrom 11am-9pm \nAppointment only \n  \nTo see the designs\, click here.
URL:https://safepassagedv.org/event/spyder-tattoo-s-a-a-m-flash-sale/2023-04-27/
CATEGORIES:Fundraiser,Sexual Assault Awareness Month
END:VEVENT
BEGIN:VEVENT
DTSTART;TZID=America/Chicago:20230428T110000
DTEND;TZID=America/Chicago:20230428T210000
DTSTAMP:20260421T033027
CREATED:20230314T142053Z
LAST-MODIFIED:20230330T135045Z
UID:10001436-1682679600-1682715600@safepassagedv.org
SUMMARY:Spider Tattooz 2 S.A.A.M Flash Sale
DESCRIPTION:We’re partnering up with Sycamore’s Spider Tattooz 2 for Sexual Assault Awareness Month! \nTheir artists have cultivated several designs\, like Medusa and lotus flower designs\, to honor survivors of sexual abuse. \n  \n40% of the profits from the S.A.A.M designs will go to Safe Passage. \n  \nAvailable every Wed-Sat throughout the month of April\, \nfrom 11am-9pm \nAppointment only \n  \nTo see the designs\, click here.
URL:https://safepassagedv.org/event/spyder-tattoo-s-a-a-m-flash-sale/2023-04-28/
CATEGORIES:Fundraiser,Sexual Assault Awareness Month
END:VEVENT
BEGIN:VEVENT
DTSTART;TZID=America/Chicago:20230429T110000
DTEND;TZID=America/Chicago:20230429T210000
DTSTAMP:20260421T033027
CREATED:20230314T142053Z
LAST-MODIFIED:20230330T135045Z
UID:10001437-1682766000-1682802000@safepassagedv.org
SUMMARY:Spider Tattooz 2 S.A.A.M Flash Sale
DESCRIPTION:We’re partnering up with Sycamore’s Spider Tattooz 2 for Sexual Assault Awareness Month! \nTheir artists have cultivated several designs\, like Medusa and lotus flower designs\, to honor survivors of sexual abuse. \n  \n40% of the profits from the S.A.A.M designs will go to Safe Passage. \n  \nAvailable every Wed-Sat throughout the month of April\, \nfrom 11am-9pm \nAppointment only \n  \nTo see the designs\, click here.
URL:https://safepassagedv.org/event/spyder-tattoo-s-a-a-m-flash-sale/2023-04-29/
CATEGORIES:Fundraiser,Sexual Assault Awareness Month
END:VEVENT
END:VCALENDAR