BEGIN:VCALENDAR
VERSION:2.0
PRODID:-//Safe Passage - ECPv6.15.17.1//NONSGML v1.0//EN
CALSCALE:GREGORIAN
METHOD:PUBLISH
X-WR-CALNAME:Safe Passage
X-ORIGINAL-URL:https://safepassagedv.org
X-WR-CALDESC:Events for Safe Passage
REFRESH-INTERVAL;VALUE=DURATION:PT1H
X-Robots-Tag:noindex
X-PUBLISHED-TTL:PT1H
BEGIN:VTIMEZONE
TZID:America/Chicago
BEGIN:DAYLIGHT
TZOFFSETFROM:-0600
TZOFFSETTO:-0500
TZNAME:CDT
DTSTART:20240310T080000
END:DAYLIGHT
BEGIN:STANDARD
TZOFFSETFROM:-0500
TZOFFSETTO:-0600
TZNAME:CST
DTSTART:20241103T070000
END:STANDARD
BEGIN:DAYLIGHT
TZOFFSETFROM:-0600
TZOFFSETTO:-0500
TZNAME:CDT
DTSTART:20250309T080000
END:DAYLIGHT
BEGIN:STANDARD
TZOFFSETFROM:-0500
TZOFFSETTO:-0600
TZNAME:CST
DTSTART:20251102T070000
END:STANDARD
BEGIN:DAYLIGHT
TZOFFSETFROM:-0600
TZOFFSETTO:-0500
TZNAME:CDT
DTSTART:20260308T080000
END:DAYLIGHT
BEGIN:STANDARD
TZOFFSETFROM:-0500
TZOFFSETTO:-0600
TZNAME:CST
DTSTART:20261101T070000
END:STANDARD
END:VTIMEZONE
BEGIN:VEVENT
DTSTART;TZID=America/Chicago:20250903T110000
DTEND;TZID=America/Chicago:20250903T140000
DTSTAMP:20260421T045044
CREATED:20250519T144645Z
LAST-MODIFIED:20250519T144645Z
UID:10001747-1756897200-1756908000@safepassagedv.org
SUMMARY:Safe Passage at Campus Meets Community Block Party
DESCRIPTION:Join us at NIU’s Campus Meets Community Block Party at the MLK Commons from 11 AM-2 PM for free resources\, information about volunteering/interning\, upcoming events\, and more!
URL:https://safepassagedv.org/event/safe-passage-at-campus-meets-community-block-party/
LOCATION:IL
END:VEVENT
BEGIN:VEVENT
DTSTART;TZID=America/Chicago:20250904T093000
DTEND;TZID=America/Chicago:20250904T113000
DTSTAMP:20260421T045044
CREATED:20250124T180612Z
LAST-MODIFIED:20250124T180612Z
UID:10001603-1756978200-1756985400@safepassagedv.org
SUMMARY:Safe Passage at DeKalb Public Library
DESCRIPTION:Join us at the DeKalb Public Library from 9:30-11:30 AM for free resources\, information about volunteering/interning\, and more!
URL:https://safepassagedv.org/event/safe-passage-at-dekalb-public-library-4/2025-09-04/
LOCATION:IL
END:VEVENT
BEGIN:VEVENT
DTSTART;TZID=America/Chicago:20250904T133000
DTEND;TZID=America/Chicago:20250904T153000
DTSTAMP:20260421T045044
CREATED:20250124T181156Z
LAST-MODIFIED:20250124T181156Z
UID:10001615-1756992600-1756999800@safepassagedv.org
SUMMARY:Safe Passage at Malta Public Library
DESCRIPTION:Join us from 1:30-3:30 PM at the Malta Public Library for free resources\, information about volunteering/interning\, and more!
URL:https://safepassagedv.org/event/safe-passage-at-malta-public-library-3/2025-09-04/
LOCATION:IL
END:VEVENT
BEGIN:VEVENT
DTSTART;TZID=America/Chicago:20250904T160000
DTEND;TZID=America/Chicago:20250904T180000
DTSTAMP:20260421T045044
CREATED:20250124T181605Z
LAST-MODIFIED:20250124T181605Z
UID:10001627-1757001600-1757008800@safepassagedv.org
SUMMARY:Safe Passage at Sycamore Public Library
DESCRIPTION:Join us from 4-6 PM at the Sycamore Public Library for free resources\, information about volunteering/interning\, and more!
URL:https://safepassagedv.org/event/safe-passage-at-sycamore-public-library-3/2025-09-04/
LOCATION:IL
END:VEVENT
BEGIN:VEVENT
DTSTART;TZID=America/Chicago:20250911T100000
DTEND;TZID=America/Chicago:20250911T140000
DTSTAMP:20260421T045044
CREATED:20250519T135712Z
LAST-MODIFIED:20250519T135712Z
UID:10001723-1757584800-1757599200@safepassagedv.org
SUMMARY:Safe Passage at DeKalb Farmers' Market
DESCRIPTION:Join us at the DeKalb Farmers’ Market from 10-2 for free resources\, information about volunteering/interning\, upcoming events\, and more!
URL:https://safepassagedv.org/event/safe-passage-at-dekalb-farmers-market-4/
LOCATION:IL
END:VEVENT
BEGIN:VEVENT
DTSTART;TZID=America/Chicago:20250912T100000
DTEND;TZID=America/Chicago:20250912T120000
DTSTAMP:20260421T045044
CREATED:20250610T134442Z
LAST-MODIFIED:20250610T134502Z
UID:10001752-1757671200-1757678400@safepassagedv.org
SUMMARY:Safe Passage at Somonauk Public Library
DESCRIPTION:Join Safe Passage at the Somonauk Public Library from 10 AM-12 PM for free resources\, information on volunteering/interning\, and our upcoming events! \n 
URL:https://safepassagedv.org/event/safe-passage-at-somonauk-public-library-4-2/2025-09-12/
LOCATION:IL
END:VEVENT
BEGIN:VEVENT
DTSTART;TZID=America/Chicago:20250912T143000
DTEND;TZID=America/Chicago:20250912T163000
DTSTAMP:20260421T045044
CREATED:20250624T193550Z
LAST-MODIFIED:20250624T193550Z
UID:10001764-1757687400-1757694600@safepassagedv.org
SUMMARY:Safe Passage at Sandwich Public Library
DESCRIPTION:Join Safe Passage at the Sandwich Public Library from 2:30-4:30  PM for free resources\, information on volunteering/interning\, and our upcoming events!
URL:https://safepassagedv.org/event/safe-passage-at-sandwich-public-library-4-2/2025-09-12/
LOCATION:IL
END:VEVENT
BEGIN:VEVENT
DTSTART;TZID=America/Chicago:20250918T120000
DTEND;TZID=America/Chicago:20250918T140000
DTSTAMP:20260421T045044
CREATED:20250624T203111Z
LAST-MODIFIED:20250624T203138Z
UID:10001771-1758196800-1758204000@safepassagedv.org
SUMMARY:Safe Passage at Hinckley Public Library
DESCRIPTION:Join Safe Passage at the Hinckley Public Library from 12-2 PM on the third Thursday of every month for free resources\, information about volunteering/interning\, upcoming events\, and more!
URL:https://safepassagedv.org/event/safe-passage-at-hinckley-public-library/2025-09-18/
LOCATION:IL
END:VEVENT
BEGIN:VEVENT
DTSTART;TZID=America/Chicago:20250920T110000
DTEND;TZID=America/Chicago:20250920T140000
DTSTAMP:20260421T045044
CREATED:20250916T141434Z
LAST-MODIFIED:20250916T141434Z
UID:10001855-1758366000-1758376800@safepassagedv.org
SUMMARY:Safe Passage at Burning Cicada Festival
DESCRIPTION:Join Safe Passage at Burning Cicada in Hopkins Parks for free survivor resources and information on how to get involved! \nFor more information about the event visit: https://www.facebook.com/burningcicadafestival/
URL:https://safepassagedv.org/event/safe-passage-at-burning-cicada-festival/
LOCATION:IL
END:VEVENT
BEGIN:VEVENT
DTSTART;TZID=America/Chicago:20250925T100000
DTEND;TZID=America/Chicago:20250925T120000
DTSTAMP:20260421T045044
CREATED:20250307T220252Z
LAST-MODIFIED:20250307T220252Z
UID:10001673-1758794400-1758801600@safepassagedv.org
SUMMARY:Safe Passage at Genoa Public Library
DESCRIPTION:Join Safe Passage at Genoa Public Library from 10 AM-12 PM for free resources\, information about volunteering/interning\, upcoming events\, and more!
URL:https://safepassagedv.org/event/safe-passage-at-genoa-public-library-3/2025-09-25/
LOCATION:IL
END:VEVENT
BEGIN:VEVENT
DTSTART;TZID=America/Chicago:20250925T160000
DTEND;TZID=America/Chicago:20250925T180000
DTSTAMP:20260421T045044
CREATED:20250307T220403Z
LAST-MODIFIED:20250307T220403Z
UID:10001685-1758816000-1758823200@safepassagedv.org
SUMMARY:Safe Passage at Maple Park Public Library
DESCRIPTION:Join Safe Passage at Maple Park Public Library for free resources\, information about volunteering/interning\, upcoming events\, and more!
URL:https://safepassagedv.org/event/safe-passage-at-maple-park-public-library-3/2025-09-25/
LOCATION:IL
END:VEVENT
BEGIN:VEVENT
DTSTART;TZID=America/Chicago:20250926T143000
DTEND;TZID=America/Chicago:20250926T163000
DTSTAMP:20260421T045044
CREATED:20250519T141309Z
LAST-MODIFIED:20250519T141343Z
UID:10001728-1758897000-1758904200@safepassagedv.org
SUMMARY:Safe Passage at Clinton Township Public Library
DESCRIPTION:Join Safe Passage at the Clinton Township Public Library from 2:30-4:30 PM on the 4th Friday of every month for free survivor resources\, information about volunteering/interning\, upcoming events\, and more! \n 
URL:https://safepassagedv.org/event/safe-passage-at-clinton-township-public-library-3/2025-09-26/
LOCATION:IL
END:VEVENT
BEGIN:VEVENT
DTSTART;TZID=America/Chicago:20250927T080000
DTEND;TZID=America/Chicago:20250927T100000
DTSTAMP:20260421T045044
CREATED:20250916T142241Z
LAST-MODIFIED:20250916T142241Z
UID:10001856-1758960000-1758967200@safepassagedv.org
SUMMARY:Safe Passage at Out of the Darkness Walk
DESCRIPTION:Join us at Hopkins Park for the Out of the Darkness Walk starting at 8 AM for free survivor resources and information on how to get involved.
URL:https://safepassagedv.org/event/safe-passage-at-out-of-the-darkness-walk/
LOCATION:IL
END:VEVENT
END:VCALENDAR