BEGIN:VCALENDAR
VERSION:2.0
PRODID:-//Safe Passage - ECPv6.15.17.1//NONSGML v1.0//EN
CALSCALE:GREGORIAN
METHOD:PUBLISH
X-ORIGINAL-URL:https://safepassagedv.org
X-WR-CALDESC:Events for Safe Passage
REFRESH-INTERVAL;VALUE=DURATION:PT1H
X-Robots-Tag:noindex
X-PUBLISHED-TTL:PT1H
BEGIN:VTIMEZONE
TZID:America/Chicago
BEGIN:DAYLIGHT
TZOFFSETFROM:-0600
TZOFFSETTO:-0500
TZNAME:CDT
DTSTART:20250309T080000
END:DAYLIGHT
BEGIN:STANDARD
TZOFFSETFROM:-0500
TZOFFSETTO:-0600
TZNAME:CST
DTSTART:20251102T070000
END:STANDARD
BEGIN:DAYLIGHT
TZOFFSETFROM:-0600
TZOFFSETTO:-0500
TZNAME:CDT
DTSTART:20260308T080000
END:DAYLIGHT
BEGIN:STANDARD
TZOFFSETFROM:-0500
TZOFFSETTO:-0600
TZNAME:CST
DTSTART:20261101T070000
END:STANDARD
BEGIN:DAYLIGHT
TZOFFSETFROM:-0600
TZOFFSETTO:-0500
TZNAME:CDT
DTSTART:20270314T080000
END:DAYLIGHT
BEGIN:STANDARD
TZOFFSETFROM:-0500
TZOFFSETTO:-0600
TZNAME:CST
DTSTART:20271107T070000
END:STANDARD
END:VTIMEZONE
BEGIN:VEVENT
DTSTART;TZID=America/Chicago:20260101T093000
DTEND;TZID=America/Chicago:20260101T113000
DTSTAMP:20260423T101243
CREATED:20250124T180612Z
LAST-MODIFIED:20250124T180612Z
UID:10001607-1767259800-1767267000@safepassagedv.org
SUMMARY:Safe Passage at DeKalb Public Library
DESCRIPTION:Join us at the DeKalb Public Library from 9:30-11:30 AM for free resources\, information about volunteering/interning\, and more!
URL:https://safepassagedv.org/event/safe-passage-at-dekalb-public-library-4/2026-01-01/
LOCATION:IL
END:VEVENT
BEGIN:VEVENT
DTSTART;TZID=America/Chicago:20260101T133000
DTEND;TZID=America/Chicago:20260101T153000
DTSTAMP:20260423T101243
CREATED:20250124T181156Z
LAST-MODIFIED:20250124T181156Z
UID:10001619-1767274200-1767281400@safepassagedv.org
SUMMARY:Safe Passage at Malta Public Library
DESCRIPTION:Join us from 1:30-3:30 PM at the Malta Public Library for free resources\, information about volunteering/interning\, and more!
URL:https://safepassagedv.org/event/safe-passage-at-malta-public-library-3/2026-01-01/
LOCATION:IL
END:VEVENT
BEGIN:VEVENT
DTSTART;TZID=America/Chicago:20260101T160000
DTEND;TZID=America/Chicago:20260101T180000
DTSTAMP:20260423T101243
CREATED:20250124T181605Z
LAST-MODIFIED:20250124T181605Z
UID:10001631-1767283200-1767290400@safepassagedv.org
SUMMARY:Safe Passage at Sycamore Public Library
DESCRIPTION:Join us from 4-6 PM at the Sycamore Public Library for free resources\, information about volunteering/interning\, and more!
URL:https://safepassagedv.org/event/safe-passage-at-sycamore-public-library-3/2026-01-01/
LOCATION:IL
END:VEVENT
BEGIN:VEVENT
DTSTART;TZID=America/Chicago:20260109T100000
DTEND;TZID=America/Chicago:20260109T120000
DTSTAMP:20260423T101243
CREATED:20251020T160016Z
LAST-MODIFIED:20251020T160016Z
UID:10001883-1767952800-1767960000@safepassagedv.org
SUMMARY:Safe Passage at NIU Patterson Hall
DESCRIPTION:Join Safe Passage at NIU Patterson Hall from 10 AM- 12 PM for free survivor resources\, information on how to volunteer/intern with us\, and learn more about upcoming events!
URL:https://safepassagedv.org/event/safe-passage-at-niu-patterson-hall-10/
LOCATION:IL
END:VEVENT
BEGIN:VEVENT
DTSTART;TZID=America/Chicago:20260113T120000
DTEND;TZID=America/Chicago:20260113T140000
DTSTAMP:20260423T101243
CREATED:20251020T145350Z
LAST-MODIFIED:20251020T145350Z
UID:10001873-1768305600-1768312800@safepassagedv.org
SUMMARY:Safe Passage at NIU Grant Hall
DESCRIPTION:Join Safe Passage at NIU Grant Hall from 12-2 PM for free survivor resources\, information on how to volunteer/intern with us\, upcoming events\, and more!
URL:https://safepassagedv.org/event/safe-passage-at-niu-grant-hall-7/
LOCATION:IL
END:VEVENT
BEGIN:VEVENT
DTSTART;TZID=America/Chicago:20260116T120000
DTEND;TZID=America/Chicago:20260116T140000
DTSTAMP:20260423T101243
CREATED:20251020T145513Z
LAST-MODIFIED:20251020T145513Z
UID:10001874-1768564800-1768572000@safepassagedv.org
SUMMARY:Safe Passage at NIU Stevenson Hall
DESCRIPTION:Join Safe Passage at NIU Stevenson Hall from 12-2 PM for free survivor resources\, information on how to volunteer/intern with us\, upcoming events\, and more!
URL:https://safepassagedv.org/event/safe-passage-at-niu-stevenson-hall-10/
LOCATION:IL
END:VEVENT
BEGIN:VEVENT
DTSTART;TZID=America/Chicago:20260120T120000
DTEND;TZID=America/Chicago:20260120T140000
DTSTAMP:20260423T101243
CREATED:20251020T145739Z
LAST-MODIFIED:20251020T145739Z
UID:10001875-1768910400-1768917600@safepassagedv.org
SUMMARY:Safe Passage at NIU Neptune Hall
DESCRIPTION:Join Safe Passage at NIU Neptune Hall from 12-2 PM for free survivor resources\, information on how to volunteer/intern with us\, upcoming events\, and more!
URL:https://safepassagedv.org/event/safe-passage-at-niu-neptune-hall-12/
LOCATION:IL
END:VEVENT
BEGIN:VEVENT
DTSTART;TZID=America/Chicago:20260122T100000
DTEND;TZID=America/Chicago:20260122T120000
DTSTAMP:20260423T101243
CREATED:20250307T220252Z
LAST-MODIFIED:20250307T220252Z
UID:10001677-1769076000-1769083200@safepassagedv.org
SUMMARY:Safe Passage at Genoa Public Library
DESCRIPTION:Join Safe Passage at Genoa Public Library from 10 AM-12 PM for free resources\, information about volunteering/interning\, upcoming events\, and more!
URL:https://safepassagedv.org/event/safe-passage-at-genoa-public-library-3/2026-01-22/
LOCATION:IL
END:VEVENT
BEGIN:VEVENT
DTSTART;TZID=America/Chicago:20260122T160000
DTEND;TZID=America/Chicago:20260122T180000
DTSTAMP:20260423T101243
CREATED:20250307T220403Z
LAST-MODIFIED:20250307T220403Z
UID:10001689-1769097600-1769104800@safepassagedv.org
SUMMARY:Safe Passage at Maple Park Public Library
DESCRIPTION:Join Safe Passage at Maple Park Public Library for free resources\, information about volunteering/interning\, upcoming events\, and more!
URL:https://safepassagedv.org/event/safe-passage-at-maple-park-public-library-3/2026-01-22/
LOCATION:IL
END:VEVENT
BEGIN:VEVENT
DTSTART;TZID=America/Chicago:20260127T120000
DTEND;TZID=America/Chicago:20260127T140000
DTSTAMP:20260423T101243
CREATED:20251020T145923Z
LAST-MODIFIED:20251020T145923Z
UID:10001876-1769515200-1769522400@safepassagedv.org
SUMMARY:Safe Passage at NIU Patterson Hall
DESCRIPTION:Join Safe Passage at NIU Patterson Hall from 12-2 PM for free survivor resources\, information on how to volunteer/intern with us\, upcoming events\, and more!
URL:https://safepassagedv.org/event/safe-passage-at-niu-patterson-hall-8/
LOCATION:IL
END:VEVENT
BEGIN:VEVENT
DTSTART;TZID=America/Chicago:20260127T143000
DTEND;TZID=America/Chicago:20260127T163000
DTSTAMP:20260423T101243
CREATED:20251020T150110Z
LAST-MODIFIED:20251020T150110Z
UID:10001877-1769524200-1769531400@safepassagedv.org
SUMMARY:Safe Passage at NIU Grant Hall
DESCRIPTION:Join Safe Passage at NIU Grant Hall from 2:30-4:30 PM for free survivor resources\, information on how to volunteer/intern with us\, upcoming events\, and more!
URL:https://safepassagedv.org/event/safe-passage-at-niu-grant-hall-8/
LOCATION:IL
END:VEVENT
BEGIN:VEVENT
DTSTART;TZID=America/Chicago:20260129T120000
DTEND;TZID=America/Chicago:20260129T140000
DTSTAMP:20260423T101243
CREATED:20251020T154634Z
LAST-MODIFIED:20251020T154634Z
UID:10001878-1769688000-1769695200@safepassagedv.org
SUMMARY:Safe Passage at NIU Stevenson Hall
DESCRIPTION:Join Safe Passage at NIU Stevenson Hall from 12-2 PM for free survivor resources\, information on how to volunteer/intern with us\, and learn more about upcoming events!
URL:https://safepassagedv.org/event/safe-passage-at-niu-stevenson-hall-11/
LOCATION:IL
END:VEVENT
BEGIN:VEVENT
DTSTART;TZID=America/Chicago:20260129T143000
DTEND;TZID=America/Chicago:20260129T163000
DTSTAMP:20260423T101243
CREATED:20251020T154728Z
LAST-MODIFIED:20251020T154728Z
UID:10001879-1769697000-1769704200@safepassagedv.org
SUMMARY:Safe Passage at NIU Neptune Hall
DESCRIPTION:Join Safe Passage at NIU Neptune Hall from 2:30-4:30 PM for free survivor resources\, information on how to volunteer/intern with us\, and learn more about upcoming events!
URL:https://safepassagedv.org/event/safe-passage-at-niu-neptune-hall-13/
LOCATION:IL
END:VEVENT
BEGIN:VEVENT
DTSTART;TZID=America/Chicago:20260130T120000
DTEND;TZID=America/Chicago:20260130T140000
DTSTAMP:20260423T101243
CREATED:20251020T154938Z
LAST-MODIFIED:20251020T154938Z
UID:10001880-1769774400-1769781600@safepassagedv.org
SUMMARY:Safe Passage at NIU Patterson Hall
DESCRIPTION:Join Safe Passage at NIU Patterson Hall from 12-2 PM for free survivor resources\, information on how to volunteer/intern with us\, and learn more about upcoming events!
URL:https://safepassagedv.org/event/safe-passage-at-niu-patterson-hall-9/
LOCATION:IL
END:VEVENT
END:VCALENDAR